BEGIN:VCALENDAR
VERSION:2.0
PRODID:https://www.kufer.de/kuferweb / DE
METHOD:PUBLISH
CALSCALE:GREGORIAN
X-WR-TIMEZONE:Europe/Berlin
BEGIN:VTIMEZONE
TZID:Europe/Berlin
X-LIC-LOCATION:Europe/Berlin
BEGIN:DAYLIGHT
TZOFFSETFROM:+0100
TZOFFSETTO:+0200
TZNAME:CEST
DTSTART:19700329T020000
RRULE:FREQ=YEARLY;INTERVAL=1;BYDAY=-1SU;BYMONTH=3
END:DAYLIGHT
BEGIN:STANDARD
TZOFFSETFROM:+0200
TZOFFSETTO:+0100
TZNAME:CET
DTSTART:19701025T030000
RRULE:FREQ=YEARLY;INTERVAL=1;BYDAY=-1SU;BYMONTH=10
END:STANDARD
END:VTIMEZONE
BEGIN:VEVENT
DTSTAMP:20260422T123102
DTSTART;TZID=Europe/Berlin:20260224T194500
DTEND;TZID=Europe/Berlin:20260224T211500
UID:E310216-20260224T194500@VHSRHEINBERG
SUMMARY:Autogenes Training - Grundstufe (E310216) 
LOCATION:Rheinberg St. Nikolaus Hospital, Orsoyer Straße 55, 47495 Rheinberg
END:VEVENT
BEGIN:VEVENT
DTSTAMP:20260422T123102
DTSTART;TZID=Europe/Berlin:20260303T194500
DTEND;TZID=Europe/Berlin:20260303T211500
UID:E310216-20260303T194500@VHSRHEINBERG
SUMMARY:Autogenes Training - Grundstufe (E310216) 
LOCATION:Rheinberg St. Nikolaus Hospital, Orsoyer Straße 55, 47495 Rheinberg
END:VEVENT
BEGIN:VEVENT
DTSTAMP:20260422T123102
DTSTART;TZID=Europe/Berlin:20260310T194500
DTEND;TZID=Europe/Berlin:20260310T211500
UID:E310216-20260310T194500@VHSRHEINBERG
SUMMARY:Autogenes Training - Grundstufe (E310216) 
LOCATION:Rheinberg St. Nikolaus Hospital, Orsoyer Straße 55, 47495 Rheinberg
END:VEVENT
BEGIN:VEVENT
DTSTAMP:20260422T123102
DTSTART;TZID=Europe/Berlin:20260317T194500
DTEND;TZID=Europe/Berlin:20260317T211500
UID:E310216-20260317T194500@VHSRHEINBERG
SUMMARY:Autogenes Training - Grundstufe (E310216) 
LOCATION:Rheinberg St. Nikolaus Hospital, Orsoyer Straße 55, 47495 Rheinberg
END:VEVENT
BEGIN:VEVENT
DTSTAMP:20260422T123102
DTSTART;TZID=Europe/Berlin:20260324T194500
DTEND;TZID=Europe/Berlin:20260324T211500
UID:E310216-20260324T194500@VHSRHEINBERG
SUMMARY:Autogenes Training - Grundstufe (E310216) 
LOCATION:Rheinberg St. Nikolaus Hospital, Orsoyer Straße 55, 47495 Rheinberg
END:VEVENT
BEGIN:VEVENT
DTSTAMP:20260422T123102
DTSTART;TZID=Europe/Berlin:20260421T194500
DTEND;TZID=Europe/Berlin:20260421T211500
UID:E310216-20260421T194500@VHSRHEINBERG
SUMMARY:Autogenes Training - Grundstufe (E310216) 
LOCATION:Rheinberg St. Nikolaus Hospital, Orsoyer Straße 55, 47495 Rheinberg
END:VEVENT
BEGIN:VEVENT
DTSTAMP:20260422T123102
DTSTART;TZID=Europe/Berlin:20260428T194500
DTEND;TZID=Europe/Berlin:20260428T211500
UID:E310216-20260428T194500@VHSRHEINBERG
SUMMARY:Autogenes Training - Grundstufe (E310216) 
LOCATION:Rheinberg St. Nikolaus Hospital, Orsoyer Straße 55, 47495 Rheinberg
END:VEVENT
BEGIN:VEVENT
DTSTAMP:20260422T123102
DTSTART;TZID=Europe/Berlin:20260505T194500
DTEND;TZID=Europe/Berlin:20260505T211500
UID:E310216-20260505T194500@VHSRHEINBERG
DESCRIPTION:s. ÄM v. 14.04.26 Bo Ersatz für Ausfall am 14.04.2026
SUMMARY:Autogenes Training - Grundstufe (E310216) 
LOCATION:Rheinberg St. Nikolaus Hospital, Orsoyer Straße 55, 47495 Rheinberg
END:VEVENT
END:VCALENDAR