BEGIN:VCALENDAR
VERSION:2.0
PRODID:https://www.kufer.de/kuferweb / DE
METHOD:PUBLISH
CALSCALE:GREGORIAN
X-WR-TIMEZONE:Europe/Berlin
BEGIN:VTIMEZONE
TZID:Europe/Berlin
X-LIC-LOCATION:Europe/Berlin
BEGIN:DAYLIGHT
TZOFFSETFROM:+0100
TZOFFSETTO:+0200
TZNAME:CEST
DTSTART:19700329T020000
RRULE:FREQ=YEARLY;INTERVAL=1;BYDAY=-1SU;BYMONTH=3
END:DAYLIGHT
BEGIN:STANDARD
TZOFFSETFROM:+0200
TZOFFSETTO:+0100
TZNAME:CET
DTSTART:19701025T030000
RRULE:FREQ=YEARLY;INTERVAL=1;BYDAY=-1SU;BYMONTH=10
END:STANDARD
END:VTIMEZONE
BEGIN:VEVENT
DTSTAMP:20260420T141733
DTSTART;TZID=Europe/Berlin:20260223T193000
DTEND;TZID=Europe/Berlin:20260223T210000
UID:E320216-20260223T193000@VHSRHEINBERG
SUMMARY:Hatha-Yoga (E320216) 
LOCATION:Rheinberg Europaschule, Neue Turnhalle Gymnastikraum, Xantener Str. 96, 47495 Rheinberg
END:VEVENT
BEGIN:VEVENT
DTSTAMP:20260420T141733
DTSTART;TZID=Europe/Berlin:20260309T193000
DTEND;TZID=Europe/Berlin:20260309T210000
UID:E320216-20260309T193000@VHSRHEINBERG
SUMMARY:Hatha-Yoga (E320216) 
LOCATION:Rheinberg Europaschule, Neue Turnhalle Gymnastikraum, Xantener Str. 96, 47495 Rheinberg
END:VEVENT
BEGIN:VEVENT
DTSTAMP:20260420T141733
DTSTART;TZID=Europe/Berlin:20260323T193000
DTEND;TZID=Europe/Berlin:20260323T210000
UID:E320216-20260323T193000@VHSRHEINBERG
SUMMARY:Hatha-Yoga (E320216) 
LOCATION:Rheinberg Europaschule, Neue Turnhalle Gymnastikraum, Xantener Str. 96, 47495 Rheinberg
END:VEVENT
BEGIN:VEVENT
DTSTAMP:20260420T141733
DTSTART;TZID=Europe/Berlin:20260413T193000
DTEND;TZID=Europe/Berlin:20260413T210000
UID:E320216-20260413T193000@VHSRHEINBERG
SUMMARY:Hatha-Yoga (E320216) 
LOCATION:Rheinberg Europaschule, Neue Turnhalle Gymnastikraum, Xantener Str. 96, 47495 Rheinberg
END:VEVENT
BEGIN:VEVENT
DTSTAMP:20260420T141733
DTSTART;TZID=Europe/Berlin:20260420T193000
DTEND;TZID=Europe/Berlin:20260420T210000
UID:E320216-20260420T193000@VHSRHEINBERG
SUMMARY:Hatha-Yoga (E320216) 
LOCATION:Rheinberg Europaschule, Neue Turnhalle Gymnastikraum, Xantener Str. 96, 47495 Rheinberg
END:VEVENT
BEGIN:VEVENT
DTSTAMP:20260420T141733
DTSTART;TZID=Europe/Berlin:20260427T193000
DTEND;TZID=Europe/Berlin:20260427T210000
UID:E320216-20260427T193000@VHSRHEINBERG
SUMMARY:Hatha-Yoga (E320216) 
LOCATION:Rheinberg Europaschule, Neue Turnhalle Gymnastikraum, Xantener Str. 96, 47495 Rheinberg
END:VEVENT
BEGIN:VEVENT
DTSTAMP:20260420T141733
DTSTART;TZID=Europe/Berlin:20260504T193000
DTEND;TZID=Europe/Berlin:20260504T210000
UID:E320216-20260504T193000@VHSRHEINBERG
DESCRIPTION:Ersatz für Ausfall am 02.03.26 s. ÄM v. 09.02.2026 Bo Ersatz für Ausfall am 02.03.2026
SUMMARY:Hatha-Yoga (E320216) 
LOCATION:Rheinberg Europaschule, Neue Turnhalle Gymnastikraum, Xantener Str. 96, 47495 Rheinberg
END:VEVENT
BEGIN:VEVENT
DTSTAMP:20260420T141733
DTSTART;TZID=Europe/Berlin:20260518T193000
DTEND;TZID=Europe/Berlin:20260518T210000
UID:E320216-20260518T193000@VHSRHEINBERG
SUMMARY:Hatha-Yoga (E320216) 
LOCATION:Rheinberg Europaschule, Neue Turnhalle Gymnastikraum, Xantener Str. 96, 47495 Rheinberg
END:VEVENT
BEGIN:VEVENT
DTSTAMP:20260420T141733
DTSTART;TZID=Europe/Berlin:20260601T193000
DTEND;TZID=Europe/Berlin:20260601T210000
UID:E320216-20260601T193000@VHSRHEINBERG
SUMMARY:Hatha-Yoga (E320216) 
LOCATION:Rheinberg Europaschule, Neue Turnhalle Gymnastikraum, Xantener Str. 96, 47495 Rheinberg
END:VEVENT
BEGIN:VEVENT
DTSTAMP:20260420T141733
DTSTART;TZID=Europe/Berlin:20260608T193000
DTEND;TZID=Europe/Berlin:20260608T210000
UID:E320216-20260608T193000@VHSRHEINBERG
SUMMARY:Hatha-Yoga (E320216) 
LOCATION:Rheinberg Europaschule, Neue Turnhalle Gymnastikraum, Xantener Str. 96, 47495 Rheinberg
END:VEVENT
BEGIN:VEVENT
DTSTAMP:20260420T141733
DTSTART;TZID=Europe/Berlin:20260615T193000
DTEND;TZID=Europe/Berlin:20260615T210000
UID:E320216-20260615T193000@VHSRHEINBERG
SUMMARY:Hatha-Yoga (E320216) 
LOCATION:Rheinberg Europaschule, Neue Turnhalle Gymnastikraum, Xantener Str. 96, 47495 Rheinberg
END:VEVENT
BEGIN:VEVENT
DTSTAMP:20260420T141733
DTSTART;TZID=Europe/Berlin:20260622T193000
DTEND;TZID=Europe/Berlin:20260622T210000
UID:E320216-20260622T193000@VHSRHEINBERG
SUMMARY:Hatha-Yoga (E320216) 
LOCATION:Rheinberg Europaschule, Neue Turnhalle Gymnastikraum, Xantener Str. 96, 47495 Rheinberg
END:VEVENT
BEGIN:VEVENT
DTSTAMP:20260420T141733
DTSTART;TZID=Europe/Berlin:20260629T193000
DTEND;TZID=Europe/Berlin:20260629T210000
UID:E320216-20260629T193000@VHSRHEINBERG
DESCRIPTION:Ersatz für Ausfall am 04.05.2026 (Ausfall lt. Vorschlagsbogen)
SUMMARY:Hatha-Yoga (E320216) 
LOCATION:Rheinberg Europaschule, Neue Turnhalle Gymnastikraum, Xantener Str. 96, 47495 Rheinberg
END:VEVENT
BEGIN:VEVENT
DTSTAMP:20260420T141733
DTSTART;TZID=Europe/Berlin:20260706T193000
DTEND;TZID=Europe/Berlin:20260706T210000
UID:E320216-20260706T193000@VHSRHEINBERG
DESCRIPTION:Ersatz für Ausfall am 16.03.2026 s. ÄM v. 09.02.2026 Bo Ersatz für Ausfall am 16.03.2026
SUMMARY:Hatha-Yoga (E320216) 
LOCATION:Rheinberg Europaschule, Neue Turnhalle Gymnastikraum, Xantener Str. 96, 47495 Rheinberg
END:VEVENT
BEGIN:VEVENT
DTSTAMP:20260420T141733
DTSTART;TZID=Europe/Berlin:20260713T193000
DTEND;TZID=Europe/Berlin:20260713T210000
UID:E320216-20260713T193000@VHSRHEINBERG
DESCRIPTION:Ersatz für Ausfall am 11.05.2026 s. ÄM v. 09.02.2026 Bo Ersatz für Ausfall am 11.05.2026
SUMMARY:Hatha-Yoga (E320216) 
LOCATION:Rheinberg Europaschule, Neue Turnhalle Gymnastikraum, Xantener Str. 96, 47495 Rheinberg
END:VEVENT
END:VCALENDAR