BEGIN:VCALENDAR
VERSION:2.0
PRODID:https://www.kufer.de/kuferweb / DE
METHOD:PUBLISH
CALSCALE:GREGORIAN
X-WR-TIMEZONE:Europe/Berlin
BEGIN:VTIMEZONE
TZID:Europe/Berlin
X-LIC-LOCATION:Europe/Berlin
BEGIN:DAYLIGHT
TZOFFSETFROM:+0100
TZOFFSETTO:+0200
TZNAME:CEST
DTSTART:19700329T020000
RRULE:FREQ=YEARLY;INTERVAL=1;BYDAY=-1SU;BYMONTH=3
END:DAYLIGHT
BEGIN:STANDARD
TZOFFSETFROM:+0200
TZOFFSETTO:+0100
TZNAME:CET
DTSTART:19701025T030000
RRULE:FREQ=YEARLY;INTERVAL=1;BYDAY=-1SU;BYMONTH=10
END:STANDARD
END:VTIMEZONE
BEGIN:VEVENT
DTSTAMP:20260421T114938
DTSTART;TZID=Europe/Berlin:20260415T100000
DTEND;TZID=Europe/Berlin:20260415T110000
UID:E320226-20260415T100000@VHSRHEINBERG
SUMMARY:Hatha-Yoga - Vormittagskurs (E320226) 
LOCATION:Rheinberg Konvikt, Mehrzweckraum, Lützenhofstr. 9, 47495 Rheinberg
END:VEVENT
BEGIN:VEVENT
DTSTAMP:20260421T114938
DTSTART;TZID=Europe/Berlin:20260429T100000
DTEND;TZID=Europe/Berlin:20260429T110000
UID:E320226-20260429T100000@VHSRHEINBERG
SUMMARY:Hatha-Yoga - Vormittagskurs (E320226) 
LOCATION:Rheinberg Konvikt, Mehrzweckraum, Lützenhofstr. 9, 47495 Rheinberg
END:VEVENT
BEGIN:VEVENT
DTSTAMP:20260421T114938
DTSTART;TZID=Europe/Berlin:20260506T100000
DTEND;TZID=Europe/Berlin:20260506T110000
UID:E320226-20260506T100000@VHSRHEINBERG
SUMMARY:Hatha-Yoga - Vormittagskurs (E320226) 
LOCATION:Rheinberg Konvikt, Mehrzweckraum, Lützenhofstr. 9, 47495 Rheinberg
END:VEVENT
BEGIN:VEVENT
DTSTAMP:20260421T114938
DTSTART;TZID=Europe/Berlin:20260520T100000
DTEND;TZID=Europe/Berlin:20260520T110000
UID:E320226-20260520T100000@VHSRHEINBERG
SUMMARY:Hatha-Yoga - Vormittagskurs (E320226) 
LOCATION:Rheinberg Konvikt, Mehrzweckraum, Lützenhofstr. 9, 47495 Rheinberg
END:VEVENT
BEGIN:VEVENT
DTSTAMP:20260421T114938
DTSTART;TZID=Europe/Berlin:20260527T100000
DTEND;TZID=Europe/Berlin:20260527T110000
UID:E320226-20260527T100000@VHSRHEINBERG
SUMMARY:Hatha-Yoga - Vormittagskurs (E320226) 
LOCATION:Rheinberg Konvikt, Mehrzweckraum, Lützenhofstr. 9, 47495 Rheinberg
END:VEVENT
BEGIN:VEVENT
DTSTAMP:20260421T114938
DTSTART;TZID=Europe/Berlin:20260603T100000
DTEND;TZID=Europe/Berlin:20260603T110000
UID:E320226-20260603T100000@VHSRHEINBERG
DESCRIPTION:Ersatz für Ausfall am 22.04.2026 s. ÄM v. 18.02.2026 Bo Ersatz für Ausfall am 22.04.2026
SUMMARY:Hatha-Yoga - Vormittagskurs (E320226) 
LOCATION:Rheinberg Konvikt, Mehrzweckraum, Lützenhofstr. 9, 47495 Rheinberg
END:VEVENT
BEGIN:VEVENT
DTSTAMP:20260421T114938
DTSTART;TZID=Europe/Berlin:20260610T100000
DTEND;TZID=Europe/Berlin:20260610T110000
UID:E320226-20260610T100000@VHSRHEINBERG
DESCRIPTION:Ersatz für Ausfall am 13.l05.2026 s. ÄM v. 18.02.2026 Bo Ersatz für Ausfall am 13.05.2026
SUMMARY:Hatha-Yoga - Vormittagskurs (E320226) 
LOCATION:Rheinberg Konvikt, Mehrzweckraum, Lützenhofstr. 9, 47495 Rheinberg
END:VEVENT
BEGIN:VEVENT
DTSTAMP:20260421T114938
DTSTART;TZID=Europe/Berlin:20260617T100000
DTEND;TZID=Europe/Berlin:20260617T110000
UID:E320226-20260617T100000@VHSRHEINBERG
DESCRIPTION:Ersatz für Ausfall am 25.02.2026 - s. ÄM vom 25.02.26 erl. Bra
SUMMARY:Hatha-Yoga - Vormittagskurs (E320226) 
LOCATION:Rheinberg Konvikt, Mehrzweckraum, Lützenhofstr. 9, 47495 Rheinberg
END:VEVENT
BEGIN:VEVENT
DTSTAMP:20260421T114938
DTSTART;TZID=Europe/Berlin:20260624T100000
DTEND;TZID=Europe/Berlin:20260624T110000
UID:E320226-20260624T100000@VHSRHEINBERG
DESCRIPTION:Ersatz für Ausfall am 04.03.2026 - s. ÄM vom 04.03.26 erl. Bra
SUMMARY:Hatha-Yoga - Vormittagskurs (E320226) 
LOCATION:Rheinberg Konvikt, Mehrzweckraum, Lützenhofstr. 9, 47495 Rheinberg
END:VEVENT
BEGIN:VEVENT
DTSTAMP:20260421T114938
DTSTART;TZID=Europe/Berlin:20260701T100000
DTEND;TZID=Europe/Berlin:20260701T110000
UID:E320226-20260701T100000@VHSRHEINBERG
DESCRIPTION:s. ÄM v. 17.03.2026 (*Bo) Ersatz für Ausfall am 11.03.2026
SUMMARY:Hatha-Yoga - Vormittagskurs (E320226) 
LOCATION:Rheinberg Konvikt, Mehrzweckraum, Lützenhofstr. 9, 47495 Rheinberg
END:VEVENT
BEGIN:VEVENT
DTSTAMP:20260421T114938
DTSTART;TZID=Europe/Berlin:20260708T100000
DTEND;TZID=Europe/Berlin:20260708T110000
UID:E320226-20260708T100000@VHSRHEINBERG
DESCRIPTION:s. ÄM v. 17.03.2026 (*Bo) Ersatz für Ausfall am 18.03.2026
SUMMARY:Hatha-Yoga - Vormittagskurs (E320226) 
LOCATION:Rheinberg Konvikt, Mehrzweckraum, Lützenhofstr. 9, 47495 Rheinberg
END:VEVENT
BEGIN:VEVENT
DTSTAMP:20260421T114938
DTSTART;TZID=Europe/Berlin:20260715T100000
DTEND;TZID=Europe/Berlin:20260715T110000
UID:E320226-20260715T100000@VHSRHEINBERG
DESCRIPTION:s. ÄM v. 17.03.2026 (*Bo) Ersatz für Ausfall am 25.03.2026
SUMMARY:Hatha-Yoga - Vormittagskurs (E320226) 
LOCATION:Rheinberg Konvikt, Mehrzweckraum, Lützenhofstr. 9, 47495 Rheinberg
END:VEVENT
END:VCALENDAR