BEGIN:VCALENDAR
VERSION:2.0
PRODID:https://www.kufer.de/kuferweb / DE
METHOD:PUBLISH
CALSCALE:GREGORIAN
X-WR-TIMEZONE:Europe/Berlin
BEGIN:VTIMEZONE
TZID:Europe/Berlin
X-LIC-LOCATION:Europe/Berlin
BEGIN:DAYLIGHT
TZOFFSETFROM:+0100
TZOFFSETTO:+0200
TZNAME:CEST
DTSTART:19700329T020000
RRULE:FREQ=YEARLY;INTERVAL=1;BYDAY=-1SU;BYMONTH=3
END:DAYLIGHT
BEGIN:STANDARD
TZOFFSETFROM:+0200
TZOFFSETTO:+0100
TZNAME:CET
DTSTART:19701025T030000
RRULE:FREQ=YEARLY;INTERVAL=1;BYDAY=-1SU;BYMONTH=10
END:STANDARD
END:VTIMEZONE
BEGIN:VEVENT
DTSTAMP:20260421T122545
DTSTART;TZID=Europe/Berlin:20260415T111500
DTEND;TZID=Europe/Berlin:20260415T121500
UID:E320236-20260415T111500@VHSRHEINBERG
SUMMARY:Hatha-Yoga - Vormittagskurs (E320236) 
LOCATION:Rheinberg Konvikt, Mehrzweckraum, Lützenhofstr. 9, 47495 Rheinberg
END:VEVENT
BEGIN:VEVENT
DTSTAMP:20260421T122545
DTSTART;TZID=Europe/Berlin:20260429T111500
DTEND;TZID=Europe/Berlin:20260429T121500
UID:E320236-20260429T111500@VHSRHEINBERG
SUMMARY:Hatha-Yoga - Vormittagskurs (E320236) 
LOCATION:Rheinberg Konvikt, Mehrzweckraum, Lützenhofstr. 9, 47495 Rheinberg
END:VEVENT
BEGIN:VEVENT
DTSTAMP:20260421T122545
DTSTART;TZID=Europe/Berlin:20260506T111500
DTEND;TZID=Europe/Berlin:20260506T121500
UID:E320236-20260506T111500@VHSRHEINBERG
SUMMARY:Hatha-Yoga - Vormittagskurs (E320236) 
LOCATION:Rheinberg Konvikt, Mehrzweckraum, Lützenhofstr. 9, 47495 Rheinberg
END:VEVENT
BEGIN:VEVENT
DTSTAMP:20260421T122545
DTSTART;TZID=Europe/Berlin:20260520T111500
DTEND;TZID=Europe/Berlin:20260520T121500
UID:E320236-20260520T111500@VHSRHEINBERG
SUMMARY:Hatha-Yoga - Vormittagskurs (E320236) 
LOCATION:Rheinberg Konvikt, Mehrzweckraum, Lützenhofstr. 9, 47495 Rheinberg
END:VEVENT
BEGIN:VEVENT
DTSTAMP:20260421T122545
DTSTART;TZID=Europe/Berlin:20260527T111500
DTEND;TZID=Europe/Berlin:20260527T121500
UID:E320236-20260527T111500@VHSRHEINBERG
SUMMARY:Hatha-Yoga - Vormittagskurs (E320236) 
LOCATION:Rheinberg Konvikt, Mehrzweckraum, Lützenhofstr. 9, 47495 Rheinberg
END:VEVENT
BEGIN:VEVENT
DTSTAMP:20260421T122545
DTSTART;TZID=Europe/Berlin:20260603T111500
DTEND;TZID=Europe/Berlin:20260603T121500
UID:E320236-20260603T111500@VHSRHEINBERG
DESCRIPTION:s. ÄM v. 18.02.2026 Bo Ersatz für Ausfall am 22.04.2026
SUMMARY:Hatha-Yoga - Vormittagskurs (E320236) 
LOCATION:Rheinberg Konvikt, Mehrzweckraum, Lützenhofstr. 9, 47495 Rheinberg
END:VEVENT
BEGIN:VEVENT
DTSTAMP:20260421T122545
DTSTART;TZID=Europe/Berlin:20260610T111500
DTEND;TZID=Europe/Berlin:20260610T121500
UID:E320236-20260610T111500@VHSRHEINBERG
DESCRIPTION:s. ÄM v. 18.02.2026 Bo Ersatz für Ausfall am 13.05.2026
SUMMARY:Hatha-Yoga - Vormittagskurs (E320236) 
LOCATION:Rheinberg Konvikt, Mehrzweckraum, Lützenhofstr. 9, 47495 Rheinberg
END:VEVENT
BEGIN:VEVENT
DTSTAMP:20260421T122545
DTSTART;TZID=Europe/Berlin:20260617T111500
DTEND;TZID=Europe/Berlin:20260617T121500
UID:E320236-20260617T111500@VHSRHEINBERG
DESCRIPTION:Ersatz für Kursstartverschiebung - s. ÄM vom 25.02.26 erl. Bra
SUMMARY:Hatha-Yoga - Vormittagskurs (E320236) 
LOCATION:Rheinberg Konvikt, Mehrzweckraum, Lützenhofstr. 9, 47495 Rheinberg
END:VEVENT
BEGIN:VEVENT
DTSTAMP:20260421T122545
DTSTART;TZID=Europe/Berlin:20260624T111500
DTEND;TZID=Europe/Berlin:20260624T121500
UID:E320236-20260624T111500@VHSRHEINBERG
DESCRIPTION:Ersatz für Ausfall am 04.03.2026 - s. ÄM vom 04.03.26 erl. Bra
SUMMARY:Hatha-Yoga - Vormittagskurs (E320236) 
LOCATION:Rheinberg Konvikt, Mehrzweckraum, Lützenhofstr. 9, 47495 Rheinberg
END:VEVENT
BEGIN:VEVENT
DTSTAMP:20260421T122545
DTSTART;TZID=Europe/Berlin:20260701T111500
DTEND;TZID=Europe/Berlin:20260701T121500
UID:E320236-20260701T111500@VHSRHEINBERG
DESCRIPTION:s. ÄM v. 11.03.2026 (*Bo) Ersatz für Ausfall am 11.03.2026
SUMMARY:Hatha-Yoga - Vormittagskurs (E320236) 
LOCATION:Rheinberg Konvikt, Mehrzweckraum, Lützenhofstr. 9, 47495 Rheinberg
END:VEVENT
BEGIN:VEVENT
DTSTAMP:20260421T122545
DTSTART;TZID=Europe/Berlin:20260708T111500
DTEND;TZID=Europe/Berlin:20260708T121500
UID:E320236-20260708T111500@VHSRHEINBERG
DESCRIPTION:s. ÄM v. 17.03.2026 (*Bo) Ersatz für Ausfall am 18.03.2026
SUMMARY:Hatha-Yoga - Vormittagskurs (E320236) 
LOCATION:Rheinberg Konvikt, Mehrzweckraum, Lützenhofstr. 9, 47495 Rheinberg
END:VEVENT
BEGIN:VEVENT
DTSTAMP:20260421T122545
DTSTART;TZID=Europe/Berlin:20260715T111500
DTEND;TZID=Europe/Berlin:20260715T121500
UID:E320236-20260715T111500@VHSRHEINBERG
DESCRIPTION:s. ÄM v. 17.03.2026 (*Bo) Ersatz für Ausfall am 25.03.2026
SUMMARY:Hatha-Yoga - Vormittagskurs (E320236) 
LOCATION:Rheinberg Konvikt, Mehrzweckraum, Lützenhofstr. 9, 47495 Rheinberg
END:VEVENT
END:VCALENDAR