BEGIN:VCALENDAR
VERSION:2.0
PRODID:https://www.kufer.de/kuferweb / DE
METHOD:PUBLISH
CALSCALE:GREGORIAN
X-WR-TIMEZONE:Europe/Berlin
BEGIN:VTIMEZONE
TZID:Europe/Berlin
X-LIC-LOCATION:Europe/Berlin
BEGIN:DAYLIGHT
TZOFFSETFROM:+0100
TZOFFSETTO:+0200
TZNAME:CEST
DTSTART:19700329T020000
RRULE:FREQ=YEARLY;INTERVAL=1;BYDAY=-1SU;BYMONTH=3
END:DAYLIGHT
BEGIN:STANDARD
TZOFFSETFROM:+0200
TZOFFSETTO:+0100
TZNAME:CET
DTSTART:19701025T030000
RRULE:FREQ=YEARLY;INTERVAL=1;BYDAY=-1SU;BYMONTH=10
END:STANDARD
END:VTIMEZONE
BEGIN:VEVENT
DTSTAMP:20260421T101006
DTSTART;TZID=Europe/Berlin:20260223T154500
DTEND;TZID=Europe/Berlin:20260223T164500
UID:E401285-20260223T154500@VHSRHEINBERG
SUMMARY:Fit mit Pilates (E401285) 
LOCATION:Xanten Städtisches Stiftsgymnasium, Gymnastikhalle, Johannes-Janssen-Straße 6, 46509 Xanten
END:VEVENT
BEGIN:VEVENT
DTSTAMP:20260421T101006
DTSTART;TZID=Europe/Berlin:20260309T154500
DTEND;TZID=Europe/Berlin:20260309T164500
UID:E401285-20260309T154500@VHSRHEINBERG
SUMMARY:Fit mit Pilates (E401285) 
LOCATION:Xanten Städtisches Stiftsgymnasium, Gymnastikhalle, Johannes-Janssen-Straße 6, 46509 Xanten
END:VEVENT
BEGIN:VEVENT
DTSTAMP:20260421T101006
DTSTART;TZID=Europe/Berlin:20260316T154500
DTEND;TZID=Europe/Berlin:20260316T164500
UID:E401285-20260316T154500@VHSRHEINBERG
SUMMARY:Fit mit Pilates (E401285) 
LOCATION:Xanten Städtisches Stiftsgymnasium, Gymnastikhalle, Johannes-Janssen-Straße 6, 46509 Xanten
END:VEVENT
BEGIN:VEVENT
DTSTAMP:20260421T101006
DTSTART;TZID=Europe/Berlin:20260323T154500
DTEND;TZID=Europe/Berlin:20260323T164500
UID:E401285-20260323T154500@VHSRHEINBERG
SUMMARY:Fit mit Pilates (E401285) 
LOCATION:Xanten Städtisches Stiftsgymnasium, Gymnastikhalle, Johannes-Janssen-Straße 6, 46509 Xanten
END:VEVENT
BEGIN:VEVENT
DTSTAMP:20260421T101006
DTSTART;TZID=Europe/Berlin:20260413T154500
DTEND;TZID=Europe/Berlin:20260413T164500
UID:E401285-20260413T154500@VHSRHEINBERG
SUMMARY:Fit mit Pilates (E401285) 
LOCATION:Xanten Städtisches Stiftsgymnasium, Gymnastikhalle, Johannes-Janssen-Straße 6, 46509 Xanten
END:VEVENT
BEGIN:VEVENT
DTSTAMP:20260421T101006
DTSTART;TZID=Europe/Berlin:20260420T154500
DTEND;TZID=Europe/Berlin:20260420T164500
UID:E401285-20260420T154500@VHSRHEINBERG
SUMMARY:Fit mit Pilates (E401285) 
LOCATION:Xanten Städtisches Stiftsgymnasium, Gymnastikhalle, Johannes-Janssen-Straße 6, 46509 Xanten
END:VEVENT
BEGIN:VEVENT
DTSTAMP:20260421T101006
DTSTART;TZID=Europe/Berlin:20260427T154500
DTEND;TZID=Europe/Berlin:20260427T164500
UID:E401285-20260427T154500@VHSRHEINBERG
SUMMARY:Fit mit Pilates (E401285) 
LOCATION:Xanten Städtisches Stiftsgymnasium, Gymnastikhalle, Johannes-Janssen-Straße 6, 46509 Xanten
END:VEVENT
BEGIN:VEVENT
DTSTAMP:20260421T101006
DTSTART;TZID=Europe/Berlin:20260511T154500
DTEND;TZID=Europe/Berlin:20260511T164500
UID:E401285-20260511T154500@VHSRHEINBERG
SUMMARY:Fit mit Pilates (E401285) 
LOCATION:Xanten Städtisches Stiftsgymnasium, Gymnastikhalle, Johannes-Janssen-Straße 6, 46509 Xanten
END:VEVENT
BEGIN:VEVENT
DTSTAMP:20260421T101006
DTSTART;TZID=Europe/Berlin:20260518T154500
DTEND;TZID=Europe/Berlin:20260518T164500
UID:E401285-20260518T154500@VHSRHEINBERG
SUMMARY:Fit mit Pilates (E401285) 
LOCATION:Xanten Städtisches Stiftsgymnasium, Gymnastikhalle, Johannes-Janssen-Straße 6, 46509 Xanten
END:VEVENT
BEGIN:VEVENT
DTSTAMP:20260421T101006
DTSTART;TZID=Europe/Berlin:20260601T154500
DTEND;TZID=Europe/Berlin:20260601T164500
UID:E401285-20260601T154500@VHSRHEINBERG
SUMMARY:Fit mit Pilates (E401285) 
LOCATION:Xanten Städtisches Stiftsgymnasium, Gymnastikhalle, Johannes-Janssen-Straße 6, 46509 Xanten
END:VEVENT
BEGIN:VEVENT
DTSTAMP:20260421T101006
DTSTART;TZID=Europe/Berlin:20260615T154500
DTEND;TZID=Europe/Berlin:20260615T164500
UID:E401285-20260615T154500@VHSRHEINBERG
DESCRIPTION:s. ÄM v. 20.02.2026 Bo Ersatz für Ausfall am 04.05.2026
SUMMARY:Fit mit Pilates (E401285) 
LOCATION:Xanten Städtisches Stiftsgymnasium, Gymnastikhalle, Johannes-Janssen-Straße 6, 46509 Xanten
END:VEVENT
BEGIN:VEVENT
DTSTAMP:20260421T101006
DTSTART;TZID=Europe/Berlin:20260622T154500
DTEND;TZID=Europe/Berlin:20260622T164500
UID:E401285-20260622T154500@VHSRHEINBERG
DESCRIPTION:s. ÄM v. 20.02.2026 Bo Ersatz für Ausfall am 08.06.2026
SUMMARY:Fit mit Pilates (E401285) 
LOCATION:Xanten Städtisches Stiftsgymnasium, Gymnastikhalle, Johannes-Janssen-Straße 6, 46509 Xanten
END:VEVENT
BEGIN:VEVENT
DTSTAMP:20260421T101006
DTSTART;TZID=Europe/Berlin:20260629T154500
DTEND;TZID=Europe/Berlin:20260629T164500
UID:E401285-20260629T154500@VHSRHEINBERG
DESCRIPTION:Ersatz für Ausfall am 02.03.2026 -  s. ÄM vom 19.03.26 erl. Bra
SUMMARY:Fit mit Pilates (E401285) 
LOCATION:Xanten Städtisches Stiftsgymnasium, Gymnastikhalle, Johannes-Janssen-Straße 6, 46509 Xanten
END:VEVENT
END:VCALENDAR