BEGIN:VCALENDAR
VERSION:2.0
PRODID:https://www.kufer.de/kuferweb / DE
METHOD:PUBLISH
CALSCALE:GREGORIAN
X-WR-TIMEZONE:Europe/Berlin
BEGIN:VTIMEZONE
TZID:Europe/Berlin
X-LIC-LOCATION:Europe/Berlin
BEGIN:DAYLIGHT
TZOFFSETFROM:+0100
TZOFFSETTO:+0200
TZNAME:CEST
DTSTART:19700329T020000
RRULE:FREQ=YEARLY;INTERVAL=1;BYDAY=-1SU;BYMONTH=3
END:DAYLIGHT
BEGIN:STANDARD
TZOFFSETFROM:+0200
TZOFFSETTO:+0100
TZNAME:CET
DTSTART:19701025T030000
RRULE:FREQ=YEARLY;INTERVAL=1;BYDAY=-1SU;BYMONTH=10
END:STANDARD
END:VTIMEZONE
BEGIN:VEVENT
DTSTAMP:20260421T123722
DTSTART;TZID=Europe/Berlin:20260225T090000
DTEND;TZID=Europe/Berlin:20260225T130000
UID:E501386-20260225T090000@VHSRHEINBERG
SUMMARY:Alpha Integrationskurs - Modul 3 (E501386) 
LOCATION:Alpen Ev. Gemeindehaus, Presbyterzimmer, An der Vorburg 3, 46519 Alpen
END:VEVENT
BEGIN:VEVENT
DTSTAMP:20260421T123722
DTSTART;TZID=Europe/Berlin:20260302T090000
DTEND;TZID=Europe/Berlin:20260302T130000
UID:E501386-20260302T090000@VHSRHEINBERG
SUMMARY:Alpha Integrationskurs - Modul 3 (E501386) 
LOCATION:Alpen Ev. Gemeindehaus, Presbyterzimmer, An der Vorburg 3, 46519 Alpen
END:VEVENT
BEGIN:VEVENT
DTSTAMP:20260421T123722
DTSTART;TZID=Europe/Berlin:20260303T090000
DTEND;TZID=Europe/Berlin:20260303T130000
UID:E501386-20260303T090000@VHSRHEINBERG
SUMMARY:Alpha Integrationskurs - Modul 3 (E501386) 
LOCATION:Alpen Ev. Gemeindehaus, Presbyterzimmer, An der Vorburg 3, 46519 Alpen
END:VEVENT
BEGIN:VEVENT
DTSTAMP:20260421T123722
DTSTART;TZID=Europe/Berlin:20260304T090000
DTEND;TZID=Europe/Berlin:20260304T130000
UID:E501386-20260304T090000@VHSRHEINBERG
SUMMARY:Alpha Integrationskurs - Modul 3 (E501386) 
LOCATION:Alpen Ev. Gemeindehaus, Presbyterzimmer, An der Vorburg 3, 46519 Alpen
END:VEVENT
BEGIN:VEVENT
DTSTAMP:20260421T123722
DTSTART;TZID=Europe/Berlin:20260309T090000
DTEND;TZID=Europe/Berlin:20260309T130000
UID:E501386-20260309T090000@VHSRHEINBERG
SUMMARY:Alpha Integrationskurs - Modul 3 (E501386) 
LOCATION:Alpen Ev. Gemeindehaus, Presbyterzimmer, An der Vorburg 3, 46519 Alpen
END:VEVENT
BEGIN:VEVENT
DTSTAMP:20260421T123722
DTSTART;TZID=Europe/Berlin:20260310T090000
DTEND;TZID=Europe/Berlin:20260310T130000
UID:E501386-20260310T090000@VHSRHEINBERG
SUMMARY:Alpha Integrationskurs - Modul 3 (E501386) 
LOCATION:Alpen Ev. Gemeindehaus, Presbyterzimmer, An der Vorburg 3, 46519 Alpen
END:VEVENT
BEGIN:VEVENT
DTSTAMP:20260421T123722
DTSTART;TZID=Europe/Berlin:20260311T090000
DTEND;TZID=Europe/Berlin:20260311T130000
UID:E501386-20260311T090000@VHSRHEINBERG
SUMMARY:Alpha Integrationskurs - Modul 3 (E501386) 
LOCATION:Alpen Ev. Gemeindehaus, Presbyterzimmer, An der Vorburg 3, 46519 Alpen
END:VEVENT
BEGIN:VEVENT
DTSTAMP:20260421T123722
DTSTART;TZID=Europe/Berlin:20260316T090000
DTEND;TZID=Europe/Berlin:20260316T130000
UID:E501386-20260316T090000@VHSRHEINBERG
SUMMARY:Alpha Integrationskurs - Modul 3 (E501386) 
LOCATION:Alpen Ev. Gemeindehaus, Presbyterzimmer, An der Vorburg 3, 46519 Alpen
END:VEVENT
BEGIN:VEVENT
DTSTAMP:20260421T123722
DTSTART;TZID=Europe/Berlin:20260317T090000
DTEND;TZID=Europe/Berlin:20260317T130000
UID:E501386-20260317T090000@VHSRHEINBERG
SUMMARY:Alpha Integrationskurs - Modul 3 (E501386) 
LOCATION:Alpen Ev. Gemeindehaus, Presbyterzimmer, An der Vorburg 3, 46519 Alpen
END:VEVENT
BEGIN:VEVENT
DTSTAMP:20260421T123722
DTSTART;TZID=Europe/Berlin:20260318T090000
DTEND;TZID=Europe/Berlin:20260318T130000
UID:E501386-20260318T090000@VHSRHEINBERG
SUMMARY:Alpha Integrationskurs - Modul 3 (E501386) 
LOCATION:Alpen Ev. Gemeindehaus, Presbyterzimmer, An der Vorburg 3, 46519 Alpen
END:VEVENT
BEGIN:VEVENT
DTSTAMP:20260421T123722
DTSTART;TZID=Europe/Berlin:20260323T090000
DTEND;TZID=Europe/Berlin:20260323T130000
UID:E501386-20260323T090000@VHSRHEINBERG
SUMMARY:Alpha Integrationskurs - Modul 3 (E501386) 
LOCATION:Alpen Ev. Gemeindehaus, Presbyterzimmer, An der Vorburg 3, 46519 Alpen
END:VEVENT
BEGIN:VEVENT
DTSTAMP:20260421T123722
DTSTART;TZID=Europe/Berlin:20260324T090000
DTEND;TZID=Europe/Berlin:20260324T130000
UID:E501386-20260324T090000@VHSRHEINBERG
SUMMARY:Alpha Integrationskurs - Modul 3 (E501386) 
LOCATION:Alpen Ev. Gemeindehaus, Presbyterzimmer, An der Vorburg 3, 46519 Alpen
END:VEVENT
BEGIN:VEVENT
DTSTAMP:20260421T123722
DTSTART;TZID=Europe/Berlin:20260325T090000
DTEND;TZID=Europe/Berlin:20260325T130000
UID:E501386-20260325T090000@VHSRHEINBERG
SUMMARY:Alpha Integrationskurs - Modul 3 (E501386) 
LOCATION:Alpen Ev. Gemeindehaus, Presbyterzimmer, An der Vorburg 3, 46519 Alpen
END:VEVENT
BEGIN:VEVENT
DTSTAMP:20260421T123722
DTSTART;TZID=Europe/Berlin:20260413T090000
DTEND;TZID=Europe/Berlin:20260413T130000
UID:E501386-20260413T090000@VHSRHEINBERG
SUMMARY:Alpha Integrationskurs - Modul 3 (E501386) 
LOCATION:Alpen Ev. Gemeindehaus, Presbyterzimmer, An der Vorburg 3, 46519 Alpen
END:VEVENT
BEGIN:VEVENT
DTSTAMP:20260421T123722
DTSTART;TZID=Europe/Berlin:20260414T090000
DTEND;TZID=Europe/Berlin:20260414T130000
UID:E501386-20260414T090000@VHSRHEINBERG
SUMMARY:Alpha Integrationskurs - Modul 3 (E501386) 
LOCATION:Alpen Ev. Gemeindehaus, Presbyterzimmer, An der Vorburg 3, 46519 Alpen
END:VEVENT
BEGIN:VEVENT
DTSTAMP:20260421T123722
DTSTART;TZID=Europe/Berlin:20260415T090000
DTEND;TZID=Europe/Berlin:20260415T130000
UID:E501386-20260415T090000@VHSRHEINBERG
SUMMARY:Alpha Integrationskurs - Modul 3 (E501386) 
LOCATION:Alpen Ev. Gemeindehaus, Presbyterzimmer, An der Vorburg 3, 46519 Alpen
END:VEVENT
BEGIN:VEVENT
DTSTAMP:20260421T123722
DTSTART;TZID=Europe/Berlin:20260420T090000
DTEND;TZID=Europe/Berlin:20260420T130000
UID:E501386-20260420T090000@VHSRHEINBERG
SUMMARY:Alpha Integrationskurs - Modul 3 (E501386) 
LOCATION:Alpen Ev. Gemeindehaus, Presbyterzimmer, An der Vorburg 3, 46519 Alpen
END:VEVENT
BEGIN:VEVENT
DTSTAMP:20260421T123722
DTSTART;TZID=Europe/Berlin:20260421T090000
DTEND;TZID=Europe/Berlin:20260421T130000
UID:E501386-20260421T090000@VHSRHEINBERG
SUMMARY:Alpha Integrationskurs - Modul 3 (E501386) 
LOCATION:Alpen Ev. Gemeindehaus, Presbyterzimmer, An der Vorburg 3, 46519 Alpen
END:VEVENT
BEGIN:VEVENT
DTSTAMP:20260421T123722
DTSTART;TZID=Europe/Berlin:20260422T090000
DTEND;TZID=Europe/Berlin:20260422T130000
UID:E501386-20260422T090000@VHSRHEINBERG
SUMMARY:Alpha Integrationskurs - Modul 3 (E501386) 
LOCATION:Alpen Ev. Gemeindehaus, Presbyterzimmer, An der Vorburg 3, 46519 Alpen
END:VEVENT
BEGIN:VEVENT
DTSTAMP:20260421T123722
DTSTART;TZID=Europe/Berlin:20260427T090000
DTEND;TZID=Europe/Berlin:20260427T130000
UID:E501386-20260427T090000@VHSRHEINBERG
SUMMARY:Alpha Integrationskurs - Modul 3 (E501386) 
LOCATION:Alpen Ev. Gemeindehaus, Presbyterzimmer, An der Vorburg 3, 46519 Alpen
END:VEVENT
END:VCALENDAR