BEGIN:VCALENDAR
VERSION:2.0
PRODID:https://www.kufer.de/kuferweb / DE
METHOD:PUBLISH
CALSCALE:GREGORIAN
X-WR-TIMEZONE:Europe/Berlin
BEGIN:VTIMEZONE
TZID:Europe/Berlin
X-LIC-LOCATION:Europe/Berlin
BEGIN:DAYLIGHT
TZOFFSETFROM:+0100
TZOFFSETTO:+0200
TZNAME:CEST
DTSTART:19700329T020000
RRULE:FREQ=YEARLY;INTERVAL=1;BYDAY=-1SU;BYMONTH=3
END:DAYLIGHT
BEGIN:STANDARD
TZOFFSETFROM:+0200
TZOFFSETTO:+0100
TZNAME:CET
DTSTART:19701025T030000
RRULE:FREQ=YEARLY;INTERVAL=1;BYDAY=-1SU;BYMONTH=10
END:STANDARD
END:VTIMEZONE
BEGIN:VEVENT
DTSTAMP:20260421T114946
DTSTART;TZID=Europe/Berlin:20260617T090000
DTEND;TZID=Europe/Berlin:20260617T130000
UID:E501586-20260617T090000@VHSRHEINBERG
SUMMARY:Alpha Integrationskurs - Modul 5 (E501586) 
LOCATION:Alpen Ev. Gemeindehaus, Presbyterzimmer, An der Vorburg 3, 46519 Alpen
END:VEVENT
BEGIN:VEVENT
DTSTAMP:20260421T114946
DTSTART;TZID=Europe/Berlin:20260622T090000
DTEND;TZID=Europe/Berlin:20260622T130000
UID:E501586-20260622T090000@VHSRHEINBERG
SUMMARY:Alpha Integrationskurs - Modul 5 (E501586) 
LOCATION:Alpen Ev. Gemeindehaus, Presbyterzimmer, An der Vorburg 3, 46519 Alpen
END:VEVENT
BEGIN:VEVENT
DTSTAMP:20260421T114946
DTSTART;TZID=Europe/Berlin:20260623T090000
DTEND;TZID=Europe/Berlin:20260623T130000
UID:E501586-20260623T090000@VHSRHEINBERG
SUMMARY:Alpha Integrationskurs - Modul 5 (E501586) 
LOCATION:Alpen Ev. Gemeindehaus, Presbyterzimmer, An der Vorburg 3, 46519 Alpen
END:VEVENT
BEGIN:VEVENT
DTSTAMP:20260421T114946
DTSTART;TZID=Europe/Berlin:20260624T090000
DTEND;TZID=Europe/Berlin:20260624T130000
UID:E501586-20260624T090000@VHSRHEINBERG
SUMMARY:Alpha Integrationskurs - Modul 5 (E501586) 
LOCATION:Alpen Ev. Gemeindehaus, Presbyterzimmer, An der Vorburg 3, 46519 Alpen
END:VEVENT
BEGIN:VEVENT
DTSTAMP:20260421T114946
DTSTART;TZID=Europe/Berlin:20260629T090000
DTEND;TZID=Europe/Berlin:20260629T130000
UID:E501586-20260629T090000@VHSRHEINBERG
SUMMARY:Alpha Integrationskurs - Modul 5 (E501586) 
LOCATION:Alpen Ev. Gemeindehaus, Presbyterzimmer, An der Vorburg 3, 46519 Alpen
END:VEVENT
BEGIN:VEVENT
DTSTAMP:20260421T114946
DTSTART;TZID=Europe/Berlin:20260630T090000
DTEND;TZID=Europe/Berlin:20260630T130000
UID:E501586-20260630T090000@VHSRHEINBERG
SUMMARY:Alpha Integrationskurs - Modul 5 (E501586) 
LOCATION:Alpen Ev. Gemeindehaus, Presbyterzimmer, An der Vorburg 3, 46519 Alpen
END:VEVENT
BEGIN:VEVENT
DTSTAMP:20260421T114946
DTSTART;TZID=Europe/Berlin:20260701T090000
DTEND;TZID=Europe/Berlin:20260701T130000
UID:E501586-20260701T090000@VHSRHEINBERG
SUMMARY:Alpha Integrationskurs - Modul 5 (E501586) 
LOCATION:Alpen Ev. Gemeindehaus, Presbyterzimmer, An der Vorburg 3, 46519 Alpen
END:VEVENT
BEGIN:VEVENT
DTSTAMP:20260421T114946
DTSTART;TZID=Europe/Berlin:20260706T090000
DTEND;TZID=Europe/Berlin:20260706T130000
UID:E501586-20260706T090000@VHSRHEINBERG
SUMMARY:Alpha Integrationskurs - Modul 5 (E501586) 
LOCATION:Alpen Ev. Gemeindehaus, Presbyterzimmer, An der Vorburg 3, 46519 Alpen
END:VEVENT
BEGIN:VEVENT
DTSTAMP:20260421T114946
DTSTART;TZID=Europe/Berlin:20260707T090000
DTEND;TZID=Europe/Berlin:20260707T130000
UID:E501586-20260707T090000@VHSRHEINBERG
SUMMARY:Alpha Integrationskurs - Modul 5 (E501586) 
LOCATION:Alpen Ev. Gemeindehaus, Presbyterzimmer, An der Vorburg 3, 46519 Alpen
END:VEVENT
BEGIN:VEVENT
DTSTAMP:20260421T114946
DTSTART;TZID=Europe/Berlin:20260708T090000
DTEND;TZID=Europe/Berlin:20260708T130000
UID:E501586-20260708T090000@VHSRHEINBERG
SUMMARY:Alpha Integrationskurs - Modul 5 (E501586) 
LOCATION:Alpen Ev. Gemeindehaus, Presbyterzimmer, An der Vorburg 3, 46519 Alpen
END:VEVENT
BEGIN:VEVENT
DTSTAMP:20260421T114946
DTSTART;TZID=Europe/Berlin:20260713T090000
DTEND;TZID=Europe/Berlin:20260713T130000
UID:E501586-20260713T090000@VHSRHEINBERG
SUMMARY:Alpha Integrationskurs - Modul 5 (E501586) 
LOCATION:Alpen Ev. Gemeindehaus, Presbyterzimmer, An der Vorburg 3, 46519 Alpen
END:VEVENT
BEGIN:VEVENT
DTSTAMP:20260421T114946
DTSTART;TZID=Europe/Berlin:20260714T090000
DTEND;TZID=Europe/Berlin:20260714T130000
UID:E501586-20260714T090000@VHSRHEINBERG
SUMMARY:Alpha Integrationskurs - Modul 5 (E501586) 
LOCATION:Alpen Ev. Gemeindehaus, Presbyterzimmer, An der Vorburg 3, 46519 Alpen
END:VEVENT
BEGIN:VEVENT
DTSTAMP:20260421T114946
DTSTART;TZID=Europe/Berlin:20260715T090000
DTEND;TZID=Europe/Berlin:20260715T130000
UID:E501586-20260715T090000@VHSRHEINBERG
SUMMARY:Alpha Integrationskurs - Modul 5 (E501586) 
LOCATION:Alpen Ev. Gemeindehaus, Presbyterzimmer, An der Vorburg 3, 46519 Alpen
END:VEVENT
BEGIN:VEVENT
DTSTAMP:20260421T114946
DTSTART;TZID=Europe/Berlin:20260902T090000
DTEND;TZID=Europe/Berlin:20260902T130000
UID:E501586-20260902T090000@VHSRHEINBERG
SUMMARY:Alpha Integrationskurs - Modul 5 (E501586) 
LOCATION:Alpen Ev. Gemeindehaus, Presbyterzimmer, An der Vorburg 3, 46519 Alpen
END:VEVENT
BEGIN:VEVENT
DTSTAMP:20260421T114946
DTSTART;TZID=Europe/Berlin:20260907T090000
DTEND;TZID=Europe/Berlin:20260907T130000
UID:E501586-20260907T090000@VHSRHEINBERG
SUMMARY:Alpha Integrationskurs - Modul 5 (E501586) 
LOCATION:Alpen Ev. Gemeindehaus, Presbyterzimmer, An der Vorburg 3, 46519 Alpen
END:VEVENT
BEGIN:VEVENT
DTSTAMP:20260421T114946
DTSTART;TZID=Europe/Berlin:20260908T090000
DTEND;TZID=Europe/Berlin:20260908T130000
UID:E501586-20260908T090000@VHSRHEINBERG
SUMMARY:Alpha Integrationskurs - Modul 5 (E501586) 
LOCATION:Alpen Ev. Gemeindehaus, Presbyterzimmer, An der Vorburg 3, 46519 Alpen
END:VEVENT
BEGIN:VEVENT
DTSTAMP:20260421T114946
DTSTART;TZID=Europe/Berlin:20260909T090000
DTEND;TZID=Europe/Berlin:20260909T130000
UID:E501586-20260909T090000@VHSRHEINBERG
SUMMARY:Alpha Integrationskurs - Modul 5 (E501586) 
LOCATION:Alpen Ev. Gemeindehaus, Presbyterzimmer, An der Vorburg 3, 46519 Alpen
END:VEVENT
BEGIN:VEVENT
DTSTAMP:20260421T114946
DTSTART;TZID=Europe/Berlin:20260914T090000
DTEND;TZID=Europe/Berlin:20260914T130000
UID:E501586-20260914T090000@VHSRHEINBERG
SUMMARY:Alpha Integrationskurs - Modul 5 (E501586) 
LOCATION:Alpen Ev. Gemeindehaus, Presbyterzimmer, An der Vorburg 3, 46519 Alpen
END:VEVENT
BEGIN:VEVENT
DTSTAMP:20260421T114946
DTSTART;TZID=Europe/Berlin:20260915T090000
DTEND;TZID=Europe/Berlin:20260915T130000
UID:E501586-20260915T090000@VHSRHEINBERG
SUMMARY:Alpha Integrationskurs - Modul 5 (E501586) 
LOCATION:Alpen Ev. Gemeindehaus, Presbyterzimmer, An der Vorburg 3, 46519 Alpen
END:VEVENT
BEGIN:VEVENT
DTSTAMP:20260421T114946
DTSTART;TZID=Europe/Berlin:20260916T090000
DTEND;TZID=Europe/Berlin:20260916T130000
UID:E501586-20260916T090000@VHSRHEINBERG
SUMMARY:Alpha Integrationskurs - Modul 5 (E501586) 
LOCATION:Alpen Ev. Gemeindehaus, Presbyterzimmer, An der Vorburg 3, 46519 Alpen
END:VEVENT
END:VCALENDAR